BEGIN:VCALENDAR
VERSION:2.0
PRODID:icalendar-ruby
CALSCALE:GREGORIAN
BEGIN:VEVENT
DTSTAMP:20260420T130138Z
UID:66f1baa0-9a3f-402e-9538-ecadf7c5b640
DTSTART;TZID=Pacific/Auckland:20260419T130000
DTEND;TZID=Pacific/Auckland:20260419T133000
DESCRIPTION:Property ID# 604769
SUMMARY:Openhome for 99 Longview Drive
END:VEVENT
END:VCALENDAR
