BEGIN:VCALENDAR
VERSION:2.0
PRODID:icalendar-ruby
CALSCALE:GREGORIAN
BEGIN:VEVENT
DTSTAMP:20260423T130827Z
UID:409ec2b8-8742-4c1b-aa02-a1acb01d8525
DTSTART;TZID=Pacific/Auckland:20260426T133000
DTEND;TZID=Pacific/Auckland:20260426T140000
DESCRIPTION:Property ID# 607140
SUMMARY:Openhome for 655 Grenada Street
END:VEVENT
END:VCALENDAR
