BEGIN:VCALENDAR
VERSION:2.0
PRODID:icalendar-ruby
CALSCALE:GREGORIAN
BEGIN:VEVENT
DTSTAMP:20260423T130808Z
UID:9cf76c22-59c2-46f4-b5a9-f22118fcd3f7
DTSTART;TZID=Pacific/Auckland:20260426T111500
DTEND;TZID=Pacific/Auckland:20260426T120000
DESCRIPTION:Property ID# 607050
SUMMARY:Openhome for 10 Evansbel Place
END:VEVENT
END:VCALENDAR
