BEGIN:VCALENDAR
VERSION:2.0
PRODID:icalendar-ruby
CALSCALE:GREGORIAN
BEGIN:VEVENT
DTSTAMP:20260423T131432Z
UID:0610ad82-85f1-42b5-95f5-9de57ac83059
DTSTART;TZID=Pacific/Auckland:20260426T130000
DTEND;TZID=Pacific/Auckland:20260426T140000
DESCRIPTION:Property ID# 607138
SUMMARY:Openhome for 187 Matapihi Road
END:VEVENT
END:VCALENDAR
